BEGIN:VCALENDAR
VERSION:2.0
PRODID:-//wp-events-plugin.com//7.2.3.1//EN
TZID:Europe/Helsinki
X-WR-TIMEZONE:Europe/Helsinki
BEGIN:VEVENT
UID:9-1424@nokiankylat.fi
DTSTART;TZID=Europe/Helsinki:20260408T000000
DTEND;TZID=Europe/Helsinki:20260408T000000
DTSTAMP:20260403T181039Z
URL:https://www.nokiankylat.fi/sorva/tapahtumat/kasityokerho/
SUMMARY:Käsityökerho
DESCRIPTION:Kyläyhdistyksen järjestämä käsityökerho Riihilahdessa.\n\
 nKäsityökerhoa pidetään keskiviikkoisin klo 18 alkaen nyt aluksi joka 
 toinen keskiviikko\, eli \n\n\n	8.4.\n\n	22.4.\n\n	6.5.\n\n\nKäsityökerh
 oon ovat kaikki tervetulleita. Ei tarvitse olla sorvalainen tai kyläyhdis
 tyksen jäsen.\n\nOmat työvälineet ja ainekset mukaan.\n\nPaikalle saa t
 ulla opetettavaksi\, opettajaksi tai voi vain keskittyä omaan työhönsä
 .
LOCATION:Riihilahden vapaa-ajantalo\, Riihilahdentie 17\, Nokia\, 37120\, S
 uomi
GEO:61.422017;23.426299
X-APPLE-STRUCTURED-LOCATION;VALUE=URI;X-ADDRESS=Riihilahdentie 17\, Nokia\,
  37120\, Suomi;X-APPLE-RADIUS=100;X-TITLE=Riihilahden vapaa-ajantalo:geo:6
 1.422017,23.426299
END:VEVENT
BEGIN:VTIMEZONE
TZID:Europe/Helsinki
X-LIC-LOCATION:Europe/Helsinki
BEGIN:DAYLIGHT
DTSTART:20260329T040000
TZOFFSETFROM:+0200
TZOFFSETTO:+0300
TZNAME:EEST
END:DAYLIGHT
END:VTIMEZONE
END:VCALENDAR