BEGIN:VCALENDAR
VERSION:2.0
PRODID:-//wp-events-plugin.com//7.2.3.1//EN
TZID:Europe/Helsinki
X-WR-TIMEZONE:Europe/Helsinki
BEGIN:VEVENT
UID:11-1423@nokiankylat.fi
DTSTART;TZID=Europe/Helsinki:20260319T183000
DTEND;TZID=Europe/Helsinki:20260319T200000
DTSTAMP:20260306T134112Z
URL:https://www.nokiankylat.fi/taivalkunta/tapahtumat/taivalkunnan-kylat-r
 y-kevatkokous-2/
SUMMARY:Taivalkunnan kylät ry kevätkokous
DESCRIPTION:Kokouskutsu\nTaivalkunnan kylät ry:n kevätkokous pidetään k
 ylätalolla\nTaivalkunnantie 575 to 19.3.2026 klo 18.30\nKokouksessa käsi
 tellään sääntömääräiset asiat sekä mahdollisesti muut esille tule
 vat asiat.\nTarjolla kahvia ja kastettavaa klo 18.00 alkaen.\nTervetuloa!\
 nTaivalkunnan Kylät ry / hallitus\n\nKevätkokous kutsu
LOCATION:Taivalkunnan koulu\, Taivalkunnantie 575\, Nokia\, 37120\, Suomi
GEO:61.4572796;23.404658799999993
X-APPLE-STRUCTURED-LOCATION;VALUE=URI;X-ADDRESS=Taivalkunnantie 575\, Nokia
 \, 37120\, Suomi;X-APPLE-RADIUS=100;X-TITLE=Taivalkunnan koulu:geo:61.4572
 796,23.404658799999993
END:VEVENT
BEGIN:VTIMEZONE
TZID:Europe/Helsinki
X-LIC-LOCATION:Europe/Helsinki
BEGIN:STANDARD
DTSTART:20251026T030000
TZOFFSETFROM:+0300
TZOFFSETTO:+0200
TZNAME:EET
END:STANDARD
END:VTIMEZONE
END:VCALENDAR