BEGIN:VCALENDAR
VERSION:2.0
PRODID:-//wp-events-plugin.com//7.2.3.1//EN
TZID:Europe/Helsinki
X-WR-TIMEZONE:Europe/Helsinki
BEGIN:VEVENT
UID:11-1383@nokiankylat.fi
DTSTART;TZID=Europe/Helsinki:20241120T180000
DTEND;TZID=Europe/Helsinki:20241120T193000
DTSTAMP:20241106T165652Z
URL:https://www.nokiankylat.fi/taivalkunta/tapahtumat/taivalkunnan-kylat-r
 yn-syyskokous-3/
SUMMARY:Taivalkunnan kylät ry:n syyskokous
DESCRIPTION:KOKOUSKUTSU \n\nTaivalkunnan kylät ry syyskokous \n\nAika: ke
  20.11.2024 klo 18.00\n\nPaikka: Nokia River Golfin klubirakennus. Alastal
 ontie 33\, 37120 Nokia\n\n&nbsp\;\n\nEsityslista \n\n&nbsp\;\n\n 	Kokoukse
 n avaus\n 	Valitaan kokouksen puheenjohtaja\, sihteeri\, kaksi pöytäkirj
 an tarkastajaa ja kaksi ääntenlaskijaa\n 	Todetaan kokouksen laillisuus 
 ja päätösvaltaisuus\n 	Hyväksytään kokouksen työjärjestys\n 	Vahvi
 stetaan seuraavan kalenterivuoden toimintasuunnitelma\, tulo- ja menoarvio
  sekä liittymis- ja jäsenmaksun suuruus\n 	Valitaan hallituksen puheenjo
 htaja erovuoroisen puheenjohtajan tilalle seuraavaksi kalenterivuodeksi\n 
 	Päätetään hallituksen jäsenten lukumäärästä sekä valitaan tarvi
 ttavat hallituksen jäsenet erovuoroisten tilalle seuraavaksi kahdeksi kal
 enterivuodeksi\n 	Valitaan toiminnantarkastaja ja varatoiminnantarkastaja\
 n 	Muut asiat\n 	Kokouksen päättäminen\n\n&nbsp\;\n\nTervetuloa syyskok
 oukseen!\n\nTaivalkunnan kylät ry hallitus
LOCATION:Nokia River Golf klubirakennus\, Alastalontie 33\, Nokia\, 37120\,
  Suomi
X-APPLE-STRUCTURED-LOCATION;VALUE=URI;X-ADDRESS=Alastalontie 33\, Nokia\, 3
 7120\, Suomi;X-APPLE-RADIUS=100;X-TITLE=Nokia River Golf klubirakennus:geo
 :0,0
END:VEVENT
BEGIN:VTIMEZONE
TZID:Europe/Helsinki
X-LIC-LOCATION:Europe/Helsinki
BEGIN:STANDARD
DTSTART:20241027T030000
TZOFFSETFROM:+0300
TZOFFSETTO:+0200
TZNAME:EET
END:STANDARD
END:VTIMEZONE
END:VCALENDAR